BEGIN:VCALENDAR
VERSION:2.0
PRODID:-//Goldgrube//myauktion.com//AT
CALSCALE:GREGORIAN
BEGIN:VEVENT
DTSTART:20260507T145700
DTEND:20260507T145730
LOCATION:Gewerbepark 13, 8562 Mooskirchen
DTSTAMP:20260423T205516
SUMMARY:MyAuktion: Ablauf Artikel Nr. 441725 Purolyt Desifektionskonzentrat 500ml 
URL;VALUE=URI:https://www.myauktion.com/versteigerung7670-position2446498-purolyt-desifektionskonzentrat-500ml.php
DESCRIPTION:MHD 02.2027 
UID:myauktion-7670-2446498
BEGIN:VALARM
ACTION:DISPLAY
DESCRIPTION:MHD 02.2027 
TRIGGER:-PT10M
END:VALARM
END:VEVENT
END:VCALENDAR