BEGIN:VCALENDAR
VERSION:2.0
PRODID:-//Goldgrube//myauktion.com//AT
CALSCALE:GREGORIAN
BEGIN:VEVENT
DTSTART:20260507T132600
DTEND:20260507T132630
LOCATION:Gewerbepark 13, 8562 Mooskirchen
DTSTAMP:20260423T151137
SUMMARY:MyAuktion: Ablauf Artikel Nr. 441412 Koki Bleihaltige Lötpaste  SSA48-M955 10x0.5kg 
URL;VALUE=URI:https://www.myauktion.com/versteigerung7670-position2446499-koki-bleihaltige-loetpaste-ssa48-m955-10x05kg.php
DESCRIPTION:Mhd 24.12.25
UID:myauktion-7670-2446499
BEGIN:VALARM
ACTION:DISPLAY
DESCRIPTION:Mhd 24.12.25
TRIGGER:-PT10M
END:VALARM
END:VEVENT
END:VCALENDAR