BEGIN:VCALENDAR
VERSION:2.0
PRODID:-//Goldgrube//myauktion.com//AT
CALSCALE:GREGORIAN
BEGIN:VEVENT
DTSTART:20260507T145800
DTEND:20260507T145830
LOCATION:Gewerbepark 13, 8562 Mooskirchen
DTSTAMP:20260423T205520
SUMMARY:MyAuktion: Ablauf Artikel Nr. 441736 Paladin Aalglocke Knicki Single 16mm 
URL;VALUE=URI:https://www.myauktion.com/versteigerung7670-position2446501-paladin-aalglocke-knicki-single-16mm.php
DESCRIPTION:
UID:myauktion-7670-2446501
BEGIN:VALARM
ACTION:DISPLAY
DESCRIPTION:
TRIGGER:-PT10M
END:VALARM
END:VEVENT
END:VCALENDAR