BEGIN:VCALENDAR
VERSION:2.0
PRODID:-//Goldgrube//myauktion.com//AT
CALSCALE:GREGORIAN
BEGIN:VEVENT
DTSTART:20260507T145900
DTEND:20260507T145930
LOCATION:Gewerbepark 13, 8562 Mooskirchen
DTSTAMP:20260423T192634
SUMMARY:MyAuktion: Ablauf Artikel Nr. 441737 Paladin Big Bag Koedelmadel 15cm 
URL;VALUE=URI:https://www.myauktion.com/versteigerung7670-position2446502-paladin-big-bag-koedelmadel-15cm.php
DESCRIPTION:
UID:myauktion-7670-2446502
BEGIN:VALARM
ACTION:DISPLAY
DESCRIPTION:
TRIGGER:-PT10M
END:VALARM
END:VEVENT
END:VCALENDAR