BEGIN:VCALENDAR
VERSION:2.0
PRODID:-//Goldgrube//myauktion.com//AT
CALSCALE:GREGORIAN
BEGIN:VEVENT
DTSTART:20260507T131000
DTEND:20260507T131030
LOCATION:Gewerbepark 13, 8562 Mooskirchen
DTSTAMP:20260423T151123
SUMMARY:MyAuktion: Ablauf Artikel Nr. 441347 ABS Bremssattel hinten links 0R4697 530151
URL;VALUE=URI:https://www.myauktion.com/versteigerung7670-position2446503-abs-bremssattel-hinten-links-0r4697-530151.php
DESCRIPTION:
UID:myauktion-7670-2446503
BEGIN:VALARM
ACTION:DISPLAY
DESCRIPTION:
TRIGGER:-PT10M
END:VALARM
END:VEVENT
END:VCALENDAR