BEGIN:VCALENDAR
VERSION:2.0
PRODID:-//Goldgrube//myauktion.com//AT
CALSCALE:GREGORIAN
BEGIN:VEVENT
DTSTART:20260507T150000
DTEND:20260507T150030
LOCATION:Gewerbepark 13, 8562 Mooskirchen
DTSTAMP:20260423T205508
SUMMARY:MyAuktion: Ablauf Artikel Nr. 441739 Paladin Stahlvorf. mit Wirbel+Karabiner 
URL;VALUE=URI:https://www.myauktion.com/versteigerung7670-position2446504-paladin-stahlvorf-mit-wirbel-karabiner.php
DESCRIPTION:
UID:myauktion-7670-2446504
BEGIN:VALARM
ACTION:DISPLAY
DESCRIPTION:
TRIGGER:-PT10M
END:VALARM
END:VEVENT
END:VCALENDAR