BEGIN:VCALENDAR
VERSION:2.0
PRODID:-//Goldgrube//myauktion.com//AT
CALSCALE:GREGORIAN
BEGIN:VEVENT
DTSTART:20260507T131100
DTEND:20260507T131130
LOCATION:Gewerbepark 13, 8562 Mooskirchen
DTSTAMP:20260423T151110
SUMMARY:MyAuktion: Ablauf Artikel Nr. 441348 ABS Bremssattel vorne links 0R46085 630501
URL;VALUE=URI:https://www.myauktion.com/versteigerung7670-position2446505-abs-bremssattel-vorne-links-0r46085-630501.php
DESCRIPTION:
UID:myauktion-7670-2446505
BEGIN:VALARM
ACTION:DISPLAY
DESCRIPTION:
TRIGGER:-PT10M
END:VALARM
END:VEVENT
END:VCALENDAR