BEGIN:VCALENDAR
VERSION:2.0
PRODID:-//Goldgrube//myauktion.com//AT
CALSCALE:GREGORIAN
BEGIN:VEVENT
DTSTART:20260507T150700
DTEND:20260507T150730
LOCATION:Gewerbepark 13, 8562 Mooskirchen
DTSTAMP:20260423T205513
SUMMARY:MyAuktion: Ablauf Artikel Nr. 441742 Paladin Plattfisch Vorfach Hk. Gr. 1/0 
URL;VALUE=URI:https://www.myauktion.com/versteigerung7670-position2446509-paladin-plattfisch-vorfach-hk-gr-1-0.php
DESCRIPTION:
UID:myauktion-7670-2446509
BEGIN:VALARM
ACTION:DISPLAY
DESCRIPTION:
TRIGGER:-PT10M
END:VALARM
END:VEVENT
END:VCALENDAR