BEGIN:VCALENDAR
VERSION:2.0
PRODID:-//Goldgrube//myauktion.com//AT
CALSCALE:GREGORIAN
BEGIN:VEVENT
DTSTART:20260507T150900
DTEND:20260507T150930
LOCATION:Gewerbepark 13, 8562 Mooskirchen
DTSTAMP:20260423T205511
SUMMARY:MyAuktion: Ablauf Artikel Nr. 441750 BSH Verdampfer 12044011 
URL;VALUE=URI:https://www.myauktion.com/versteigerung7670-position2446511-bsh-verdampfer-12044011.php
DESCRIPTION:
UID:myauktion-7670-2446511
BEGIN:VALARM
ACTION:DISPLAY
DESCRIPTION:
TRIGGER:-PT10M
END:VALARM
END:VEVENT
END:VCALENDAR