BEGIN:VCALENDAR
VERSION:2.0
PRODID:-//Goldgrube//myauktion.com//AT
CALSCALE:GREGORIAN
BEGIN:VEVENT
DTSTART:20260507T151000
DTEND:20260507T151030
LOCATION:Gewerbepark 13, 8562 Mooskirchen
DTSTAMP:20260423T205523
SUMMARY:MyAuktion: Ablauf Artikel Nr. 441751 BSH Laugenpumpe 00145894 
URL;VALUE=URI:https://www.myauktion.com/versteigerung7670-position2446512-bsh-laugenpumpe-00145894.php
DESCRIPTION:
UID:myauktion-7670-2446512
BEGIN:VALARM
ACTION:DISPLAY
DESCRIPTION:
TRIGGER:-PT10M
END:VALARM
END:VEVENT
END:VCALENDAR