BEGIN:VCALENDAR
VERSION:2.0
PRODID:-//Goldgrube//myauktion.com//AT
CALSCALE:GREGORIAN
BEGIN:VEVENT
DTSTART:20260507T132700
DTEND:20260507T132730
LOCATION:Gewerbepark 13, 8562 Mooskirchen
DTSTAMP:20260423T151129
SUMMARY:MyAuktion: Ablauf Artikel Nr. 441426 BHS Steuerungsmodil 11054729
URL;VALUE=URI:https://www.myauktion.com/versteigerung7670-position2446513-bhs-steuerungsmodil-11054729.php
DESCRIPTION:
UID:myauktion-7670-2446513
BEGIN:VALARM
ACTION:DISPLAY
DESCRIPTION:
TRIGGER:-PT10M
END:VALARM
END:VEVENT
END:VCALENDAR