BEGIN:VCALENDAR
VERSION:2.0
PRODID:-//Goldgrube//myauktion.com//AT
CALSCALE:GREGORIAN
BEGIN:VEVENT
DTSTART:20260507T151200
DTEND:20260507T151230
LOCATION:Gewerbepark 13, 8562 Mooskirchen
DTSTAMP:20260423T205515
SUMMARY:MyAuktion: Ablauf Artikel Nr. 441758 Diesel Kraftstoffeinspritzdüse
URL;VALUE=URI:https://www.myauktion.com/versteigerung7670-position2446516-diesel-kraftstoffeinspritzduese.php
DESCRIPTION:Gebraucht, verschmutzt 
UID:myauktion-7670-2446516
BEGIN:VALARM
ACTION:DISPLAY
DESCRIPTION:Gebraucht, verschmutzt 
TRIGGER:-PT10M
END:VALARM
END:VEVENT
END:VCALENDAR