BEGIN:VCALENDAR
VERSION:2.0
PRODID:-//Goldgrube//myauktion.com//AT
CALSCALE:GREGORIAN
BEGIN:VEVENT
DTSTART:20260507T131500
DTEND:20260507T131530
LOCATION:Gewerbepark 13, 8562 Mooskirchen
DTSTAMP:20260423T151129
SUMMARY:MyAuktion: Ablauf Artikel Nr. 441360 Festo DGC-25-GF 
URL;VALUE=URI:https://www.myauktion.com/versteigerung7670-position2446519-festo-dgc-25-gf.php
DESCRIPTION:
UID:myauktion-7670-2446519
BEGIN:VALARM
ACTION:DISPLAY
DESCRIPTION:
TRIGGER:-PT10M
END:VALARM
END:VEVENT
END:VCALENDAR