BEGIN:VCALENDAR
VERSION:2.0
PRODID:-//Goldgrube//myauktion.com//AT
CALSCALE:GREGORIAN
BEGIN:VEVENT
DTSTART:20260507T131600
DTEND:20260507T131630
LOCATION:Gewerbepark 13, 8562 Mooskirchen
DTSTAMP:20260423T151131
SUMMARY:MyAuktion: Ablauf Artikel Nr. 441362 Gerflor Swiss Oak Beige 0848 2x120x20cm
URL;VALUE=URI:https://www.myauktion.com/versteigerung7670-position2446523-gerflor-swiss-oak-beige-0848-2x120x20cm.php
DESCRIPTION:
UID:myauktion-7670-2446523
BEGIN:VALARM
ACTION:DISPLAY
DESCRIPTION:
TRIGGER:-PT10M
END:VALARM
END:VEVENT
END:VCALENDAR