BEGIN:VCALENDAR
VERSION:2.0
PRODID:-//Goldgrube//myauktion.com//AT
CALSCALE:GREGORIAN
BEGIN:VEVENT
DTSTART:20260507T131700
DTEND:20260507T131730
LOCATION:Gewerbepark 13, 8562 Mooskirchen
DTSTAMP:20260423T151128
SUMMARY:MyAuktion: Ablauf Artikel Nr. 441363 Cedar Pure 0849 150x23cm 
URL;VALUE=URI:https://www.myauktion.com/versteigerung7670-position2446524-cedar-pure-0849-150x23cm.php
DESCRIPTION:
UID:myauktion-7670-2446524
BEGIN:VALARM
ACTION:DISPLAY
DESCRIPTION:
TRIGGER:-PT10M
END:VALARM
END:VEVENT
END:VCALENDAR