BEGIN:VCALENDAR
VERSION:2.0
PRODID:-//Goldgrube//myauktion.com//AT
CALSCALE:GREGORIAN
BEGIN:VEVENT
DTSTART:20260507T133200
DTEND:20260507T133230
LOCATION:Gewerbepark 13, 8562 Mooskirchen
DTSTAMP:20260423T151127
SUMMARY:MyAuktion: Ablauf Artikel Nr. 441438 Solar Zubehör ca. 10x10cm 
URL;VALUE=URI:https://www.myauktion.com/versteigerung7670-position2446527-solar-zubehoer-ca-10x10cm.php
DESCRIPTION:
UID:myauktion-7670-2446527
BEGIN:VALARM
ACTION:DISPLAY
DESCRIPTION:
TRIGGER:-PT10M
END:VALARM
END:VEVENT
END:VCALENDAR