BEGIN:VCALENDAR
VERSION:2.0
PRODID:-//Goldgrube//myauktion.com//AT
CALSCALE:GREGORIAN
BEGIN:VEVENT
DTSTART:20260507T132100
DTEND:20260507T132130
LOCATION:Gewerbepark 13, 8562 Mooskirchen
DTSTAMP:20260423T151134
SUMMARY:MyAuktion: Ablauf Artikel Nr. 441369 Hansaflex HD216 EN 853 2SN 16 WP 250 BAR MSHA IC-272/06 2Q24
URL;VALUE=URI:https://www.myauktion.com/versteigerung7670-position2446534-hansaflex-hd216-en-853-2sn-16-wp-250-bar-msha-ic-272-06-2q24.php
DESCRIPTION:
UID:myauktion-7670-2446534
BEGIN:VALARM
ACTION:DISPLAY
DESCRIPTION:
TRIGGER:-PT10M
END:VALARM
END:VEVENT
END:VCALENDAR