BEGIN:VCALENDAR
VERSION:2.0
PRODID:-//Goldgrube//myauktion.com//AT
CALSCALE:GREGORIAN
BEGIN:VEVENT
DTSTART:20260507T134000
DTEND:20260507T134030
LOCATION:Gewerbepark 13, 8562 Mooskirchen
DTSTAMP:20260423T151122
SUMMARY:MyAuktion: Ablauf Artikel Nr. 441440 Metrox Luftbefeuchter  10111
URL;VALUE=URI:https://www.myauktion.com/versteigerung7670-position2446538-metrox-luftbefeuchter-10111.php
DESCRIPTION:Ca. 27x32cm 
UID:myauktion-7670-2446538
BEGIN:VALARM
ACTION:DISPLAY
DESCRIPTION:Ca. 27x32cm 
TRIGGER:-PT10M
END:VALARM
END:VEVENT
END:VCALENDAR