BEGIN:VCALENDAR
VERSION:2.0
PRODID:-//Goldgrube//myauktion.com//AT
CALSCALE:GREGORIAN
BEGIN:VEVENT
DTSTART:20260507T134800
DTEND:20260507T134830
LOCATION:Gewerbepark 13, 8562 Mooskirchen
DTSTAMP:20260423T151136
SUMMARY:MyAuktion: Ablauf Artikel Nr. 441441 Metrox Luftbefeuchter  10141 
URL;VALUE=URI:https://www.myauktion.com/versteigerung7670-position2446547-metrox-luftbefeuchter-10141.php
DESCRIPTION:Ca. 27x31cm 
UID:myauktion-7670-2446547
BEGIN:VALARM
ACTION:DISPLAY
DESCRIPTION:Ca. 27x31cm 
TRIGGER:-PT10M
END:VALARM
END:VEVENT
END:VCALENDAR