BEGIN:VCALENDAR
VERSION:2.0
PRODID:-//Goldgrube//myauktion.com//AT
CALSCALE:GREGORIAN
BEGIN:VEVENT
DTSTART:20260507T152500
DTEND:20260507T152530
LOCATION:Gewerbepark 13, 8562 Mooskirchen
DTSTAMP:20260423T205516
SUMMARY:MyAuktion: Ablauf Artikel Nr. 441786 Kleine Wolke Duschvorhang 180x200cm Krokusblau 
URL;VALUE=URI:https://www.myauktion.com/versteigerung7670-position2446568-kleine-wolke-duschvorhang-180x200cm-krokusblau.php
DESCRIPTION:
UID:myauktion-7670-2446568
BEGIN:VALARM
ACTION:DISPLAY
DESCRIPTION:
TRIGGER:-PT10M
END:VALARM
END:VEVENT
END:VCALENDAR