BEGIN:VCALENDAR
VERSION:2.0
PRODID:-//Goldgrube//myauktion.com//AT
CALSCALE:GREGORIAN
BEGIN:VEVENT
DTSTART:20260507T141400
DTEND:20260507T141430
LOCATION:Gewerbepark 13, 8562 Mooskirchen
DTSTAMP:20260423T205520
SUMMARY:MyAuktion: Ablauf Artikel Nr. 441452 Lagerbuchsen 1210131
URL;VALUE=URI:https://www.myauktion.com/versteigerung7670-position2446569-lagerbuchsen-1210131.php
DESCRIPTION:
UID:myauktion-7670-2446569
BEGIN:VALARM
ACTION:DISPLAY
DESCRIPTION:
TRIGGER:-PT10M
END:VALARM
END:VEVENT
END:VCALENDAR