BEGIN:VCALENDAR
VERSION:2.0
PRODID:-//Goldgrube//myauktion.com//AT
CALSCALE:GREGORIAN
BEGIN:VEVENT
DTSTART:20260507T152800
DTEND:20260507T152830
LOCATION:Gewerbepark 13, 8562 Mooskirchen
DTSTAMP:20260423T205522
SUMMARY:MyAuktion: Ablauf Artikel Nr. 441793 BSH Schlauch 10021315 
URL;VALUE=URI:https://www.myauktion.com/versteigerung7670-position2446576-bsh-schlauch-10021315.php
DESCRIPTION:
UID:myauktion-7670-2446576
BEGIN:VALARM
ACTION:DISPLAY
DESCRIPTION:
TRIGGER:-PT10M
END:VALARM
END:VEVENT
END:VCALENDAR