BEGIN:VCALENDAR
VERSION:2.0
PRODID:-//Goldgrube//myauktion.com//AT
CALSCALE:GREGORIAN
BEGIN:VEVENT
DTSTART:20260507T141800
DTEND:20260507T141830
LOCATION:Gewerbepark 13, 8562 Mooskirchen
DTSTAMP:20260423T192637
SUMMARY:MyAuktion: Ablauf Artikel Nr. 441456 Knott Auflaufdämpfer 87 0039 09
URL;VALUE=URI:https://www.myauktion.com/versteigerung7670-position2446577-knott-auflaufdaempfer-87-0039-09.php
DESCRIPTION:
UID:myauktion-7670-2446577
BEGIN:VALARM
ACTION:DISPLAY
DESCRIPTION:
TRIGGER:-PT10M
END:VALARM
END:VEVENT
END:VCALENDAR