BEGIN:VCALENDAR
VERSION:2.0
PRODID:-//Goldgrube//myauktion.com//AT
CALSCALE:GREGORIAN
BEGIN:VEVENT
DTSTART:20260507T141900
DTEND:20260507T141930
LOCATION:Gewerbepark 13, 8562 Mooskirchen
DTSTAMP:20260423T205514
SUMMARY:MyAuktion: Ablauf Artikel Nr. 441459 Conel Connect Inox Heat  76.1xRp3/4 "x76.1. 2stk
URL;VALUE=URI:https://www.myauktion.com/versteigerung7670-position2446578-conel-connect-inox-heat-761xrp3-4-34x761-2stk.php
DESCRIPTION:
UID:myauktion-7670-2446578
BEGIN:VALARM
ACTION:DISPLAY
DESCRIPTION:
TRIGGER:-PT10M
END:VALARM
END:VEVENT
END:VCALENDAR