BEGIN:VCALENDAR
VERSION:2.0
PRODID:-//Goldgrube//myauktion.com//AT
CALSCALE:GREGORIAN
BEGIN:VEVENT
DTSTART:20260507T154600
DTEND:20260507T154630
LOCATION:Gewerbepark 13, 8562 Mooskirchen
DTSTAMP:20260424T045034
SUMMARY:MyAuktion: Ablauf Artikel Nr. 441868 Famulus Präsentkarton für 2 Flaschen bis 360mm Länge 25Stk
URL;VALUE=URI:https://www.myauktion.com/versteigerung7670-position2446584-famulus-praesentkarton-fuer-2-flaschen-bis-360mm-laenge-25stk.php
DESCRIPTION:Blau
UID:myauktion-7670-2446584
BEGIN:VALARM
ACTION:DISPLAY
DESCRIPTION:Blau
TRIGGER:-PT10M
END:VALARM
END:VEVENT
END:VCALENDAR