BEGIN:VCALENDAR
VERSION:2.0
PRODID:-//Goldgrube//myauktion.com//AT
CALSCALE:GREGORIAN
BEGIN:VEVENT
DTSTART:20260507T154700
DTEND:20260507T154730
LOCATION:Gewerbepark 13, 8562 Mooskirchen
DTSTAMP:20260423T192633
SUMMARY:MyAuktion: Ablauf Artikel Nr. 441869 Leitmotiv Dining Chair75x40,5x50cm 2Stk
URL;VALUE=URI:https://www.myauktion.com/versteigerung7670-position2446585-leitmotiv-dining-chair75x405x50cm-2stk.php
DESCRIPTION:Ochre Yellow
UID:myauktion-7670-2446585
BEGIN:VALARM
ACTION:DISPLAY
DESCRIPTION:Ochre Yellow
TRIGGER:-PT10M
END:VALARM
END:VEVENT
END:VCALENDAR