BEGIN:VCALENDAR
VERSION:2.0
PRODID:-//Goldgrube//myauktion.com//AT
CALSCALE:GREGORIAN
BEGIN:VEVENT
DTSTART:20260507T152900
DTEND:20260507T152930
LOCATION:Gewerbepark 13, 8562 Mooskirchen
DTSTAMP:20260423T205518
SUMMARY:MyAuktion: Ablauf Artikel Nr. 441799 Parker Elite Super Tough 462ST-16 EVO WP21,0 MPa (3045 PSI) 
URL;VALUE=URI:https://www.myauktion.com/versteigerung7670-position2446586-parker-elite-super-tough-462st-16-evo-wp210-mpa-3045-psi.php
DESCRIPTION:
UID:myauktion-7670-2446586
BEGIN:VALARM
ACTION:DISPLAY
DESCRIPTION:
TRIGGER:-PT10M
END:VALARM
END:VEVENT
END:VCALENDAR