BEGIN:VCALENDAR
VERSION:2.0
PRODID:-//Goldgrube//myauktion.com//AT
CALSCALE:GREGORIAN
BEGIN:VEVENT
DTSTART:20260507T150100
DTEND:20260507T150130
LOCATION:Gewerbepark 13, 8562 Mooskirchen
DTSTAMP:20260423T205520
SUMMARY:MyAuktion: Ablauf Artikel Nr. 441739 Paladin Stahlvorf. mit Wirbel+Karabiner 
URL;VALUE=URI:https://www.myauktion.com/versteigerung7670-position2446587-paladin-stahlvorf-mit-wirbel-karabiner.php
DESCRIPTION:
UID:myauktion-7670-2446587
BEGIN:VALARM
ACTION:DISPLAY
DESCRIPTION:
TRIGGER:-PT10M
END:VALARM
END:VEVENT
END:VCALENDAR