BEGIN:VCALENDAR
VERSION:2.0
PRODID:-//Goldgrube//myauktion.com//AT
CALSCALE:GREGORIAN
BEGIN:VEVENT
DTSTART:20260507T133000
DTEND:20260507T133030
LOCATION:Gewerbepark 13, 8562 Mooskirchen
DTSTAMP:20260423T151132
SUMMARY:MyAuktion: Ablauf Artikel Nr. 441431 Gästematratze 
URL;VALUE=URI:https://www.myauktion.com/versteigerung7670-position2446593-gaestematratze.php
DESCRIPTION:Breite ca. 75 cm ,länge ist nicht ersichtlich. 
UID:myauktion-7670-2446593
BEGIN:VALARM
ACTION:DISPLAY
DESCRIPTION:Breite ca. 75 cm ,länge ist nicht ersichtlich. 
TRIGGER:-PT10M
END:VALARM
END:VEVENT
END:VCALENDAR