BEGIN:VCALENDAR
VERSION:2.0
PRODID:-//Goldgrube//myauktion.com//AT
CALSCALE:GREGORIAN
BEGIN:VEVENT
DTSTART:20260507T140200
DTEND:20260507T140230
LOCATION:Gewerbepark 13, 8562 Mooskirchen
DTSTAMP:20260423T192633
SUMMARY:MyAuktion: Ablauf Artikel Nr. 441444 RS Pneumatisch betätigtes Kugelventil AP03S12BG217BIS 
URL;VALUE=URI:https://www.myauktion.com/versteigerung7670-position2446603-rs-pneumatisch-betaetigtes-kugelventil-ap03s12bg217bis.php
DESCRIPTION:
UID:myauktion-7670-2446603
BEGIN:VALARM
ACTION:DISPLAY
DESCRIPTION:
TRIGGER:-PT10M
END:VALARM
END:VEVENT
END:VCALENDAR