BEGIN:VCALENDAR
VERSION:2.0
PRODID:-//Goldgrube//myauktion.com//AT
CALSCALE:GREGORIAN
BEGIN:VEVENT
DTSTART:20260507T141000
DTEND:20260507T141030
LOCATION:Gewerbepark 13, 8562 Mooskirchen
DTSTAMP:20260423T205512
SUMMARY:MyAuktion: Ablauf Artikel Nr. 441449 Schrägkugellager Set 39x72x37
URL;VALUE=URI:https://www.myauktion.com/versteigerung7670-position2446604-schraegkugellager-set-39x72x37.php
DESCRIPTION:
UID:myauktion-7670-2446604
BEGIN:VALARM
ACTION:DISPLAY
DESCRIPTION:
TRIGGER:-PT10M
END:VALARM
END:VEVENT
END:VCALENDAR