BEGIN:VCALENDAR
VERSION:2.0
PRODID:-//Goldgrube//myauktion.com//AT
CALSCALE:GREGORIAN
BEGIN:VEVENT
DTSTART:20260507T152100
DTEND:20260507T152130
LOCATION:Gewerbepark 13, 8562 Mooskirchen
DTSTAMP:20260423T192637
SUMMARY:MyAuktion: Ablauf Artikel Nr. 441782 Jalousie laut Foto Breite ca. 200cm 2Stk
URL;VALUE=URI:https://www.myauktion.com/versteigerung7670-position2446608-jalousie-laut-foto-breite-ca-200cm-2stk.php
DESCRIPTION:
UID:myauktion-7670-2446608
BEGIN:VALARM
ACTION:DISPLAY
DESCRIPTION:
TRIGGER:-PT10M
END:VALARM
END:VEVENT
END:VCALENDAR