BEGIN:VCALENDAR
VERSION:2.0
PRODID:-//Goldgrube//myauktion.com//AT
CALSCALE:GREGORIAN
BEGIN:VEVENT
DTSTART:20260507T152600
DTEND:20260507T152630
LOCATION:Gewerbepark 13, 8562 Mooskirchen
DTSTAMP:20260423T205507
SUMMARY:MyAuktion: Ablauf Artikel Nr. 441786 Kleine Wolke Duschvorhang 180x200cm Krokusblau 
URL;VALUE=URI:https://www.myauktion.com/versteigerung7670-position2446610-kleine-wolke-duschvorhang-180x200cm-krokusblau.php
DESCRIPTION:
UID:myauktion-7670-2446610
BEGIN:VALARM
ACTION:DISPLAY
DESCRIPTION:
TRIGGER:-PT10M
END:VALARM
END:VEVENT
END:VCALENDAR