BEGIN:VCALENDAR
VERSION:2.0
PRODID:-//Goldgrube//myauktion.com//AT
CALSCALE:GREGORIAN
BEGIN:VEVENT
DTSTART:20260507T142700
DTEND:20260507T142730
LOCATION:Gewerbepark 13, 8562 Mooskirchen
DTSTAMP:20260423T205507
SUMMARY:MyAuktion: Ablauf Artikel Nr. 441464 Dekolight 862272 
URL;VALUE=URI:https://www.myauktion.com/versteigerung7670-position2446613-dekolight-862272.php
DESCRIPTION:Ca. 36cm 
UID:myauktion-7670-2446613
BEGIN:VALARM
ACTION:DISPLAY
DESCRIPTION:Ca. 36cm 
TRIGGER:-PT10M
END:VALARM
END:VEVENT
END:VCALENDAR