BEGIN:VCALENDAR
VERSION:2.0
PRODID:-//Goldgrube//myauktion.com//AT
CALSCALE:GREGORIAN
BEGIN:VEVENT
DTSTART:20260507T153000
DTEND:20260507T153030
LOCATION:Gewerbepark 13, 8562 Mooskirchen
DTSTAMP:20260423T205505
SUMMARY:MyAuktion: Ablauf Artikel Nr. 441801 Radschrauben 17Stk gebraucht 
URL;VALUE=URI:https://www.myauktion.com/versteigerung7670-position2446614-radschrauben-17stk-gebraucht.php
DESCRIPTION:Keine weiteren Daten ersichtlich
UID:myauktion-7670-2446614
BEGIN:VALARM
ACTION:DISPLAY
DESCRIPTION:Keine weiteren Daten ersichtlich
TRIGGER:-PT10M
END:VALARM
END:VEVENT
END:VCALENDAR