BEGIN:VCALENDAR
VERSION:2.0
PRODID:-//Goldgrube//myauktion.com//AT
CALSCALE:GREGORIAN
BEGIN:VEVENT
DTSTART:20260507T154800
DTEND:20260507T154830
LOCATION:Gewerbepark 13, 8562 Mooskirchen
DTSTAMP:20260423T205505
SUMMARY:MyAuktion: Ablauf Artikel Nr. 441875 Stihl Mulch-Kit AMK 443/448
URL;VALUE=URI:https://www.myauktion.com/versteigerung7670-position2446615-stihl-mulch-kit-amk-443-448.php
DESCRIPTION:
UID:myauktion-7670-2446615
BEGIN:VALARM
ACTION:DISPLAY
DESCRIPTION:
TRIGGER:-PT10M
END:VALARM
END:VEVENT
END:VCALENDAR