BEGIN:VCALENDAR
VERSION:2.0
PRODID:-//Goldgrube//myauktion.com//AT
CALSCALE:GREGORIAN
BEGIN:VEVENT
DTSTART:20260507T143200
DTEND:20260507T143230
LOCATION:Gewerbepark 13, 8562 Mooskirchen
DTSTAMP:20260423T205507
SUMMARY:MyAuktion: Ablauf Artikel Nr. 441595 Renault Lenkgetriebe
URL;VALUE=URI:https://www.myauktion.com/versteigerung7670-position2446620-renault-lenkgetriebe.php
DESCRIPTION:Gebraucht, verschmutzt
UID:myauktion-7670-2446620
BEGIN:VALARM
ACTION:DISPLAY
DESCRIPTION:Gebraucht, verschmutzt
TRIGGER:-PT10M
END:VALARM
END:VEVENT
END:VCALENDAR