BEGIN:VCALENDAR
VERSION:2.0
PRODID:-//Goldgrube//myauktion.com//AT
CALSCALE:GREGORIAN
BEGIN:VEVENT
DTSTART:20260507T153200
DTEND:20260507T153230
LOCATION:Gewerbepark 13, 8562 Mooskirchen
DTSTAMP:20260423T192633
SUMMARY:MyAuktion: Ablauf Artikel Nr. 441808 Linde Happy Clearway Gerät
URL;VALUE=URI:https://www.myauktion.com/versteigerung7670-position2446621-linde-happy-clearway-geraet.php
DESCRIPTION:Gebraucht, verschmutzt, Funktion nicht getestet
UID:myauktion-7670-2446621
BEGIN:VALARM
ACTION:DISPLAY
DESCRIPTION:Gebraucht, verschmutzt, Funktion nicht getestet
TRIGGER:-PT10M
END:VALARM
END:VEVENT
END:VCALENDAR