BEGIN:VCALENDAR
VERSION:2.0
PRODID:-//Goldgrube//myauktion.com//AT
CALSCALE:GREGORIAN
BEGIN:VEVENT
DTSTART:20260507T153300
DTEND:20260507T153330
LOCATION:Gewerbepark 13, 8562 Mooskirchen
DTSTAMP:20260423T205512
SUMMARY:MyAuktion: Ablauf Artikel Nr. 441809 ResMed Stellar 150 Beatmungsgerät
URL;VALUE=URI:https://www.myauktion.com/versteigerung7670-position2446622-resmed-stellar-150-beatmungsgeraet.php
DESCRIPTION:Gebraucht, Funktion nicht getestet
UID:myauktion-7670-2446622
BEGIN:VALARM
ACTION:DISPLAY
DESCRIPTION:Gebraucht, Funktion nicht getestet
TRIGGER:-PT10M
END:VALARM
END:VEVENT
END:VCALENDAR