BEGIN:VCALENDAR
VERSION:2.0
PRODID:-//Goldgrube//myauktion.com//AT
CALSCALE:GREGORIAN
BEGIN:VEVENT
DTSTART:20260507T153400
DTEND:20260507T153430
LOCATION:Gewerbepark 13, 8562 Mooskirchen
DTSTAMP:20260423T205508
SUMMARY:MyAuktion: Ablauf Artikel Nr. 441810 ResMed AirSense 10 CPAP Gerät
URL;VALUE=URI:https://www.myauktion.com/versteigerung7670-position2446623-resmed-airsense-10-cpap-geraet.php
DESCRIPTION:Gebraucht, verschmutzt, Funktion nicht getestet
UID:myauktion-7670-2446623
BEGIN:VALARM
ACTION:DISPLAY
DESCRIPTION:Gebraucht, verschmutzt, Funktion nicht getestet
TRIGGER:-PT10M
END:VALARM
END:VEVENT
END:VCALENDAR