BEGIN:VCALENDAR
VERSION:2.0
PRODID:-//Goldgrube//myauktion.com//AT
CALSCALE:GREGORIAN
BEGIN:VEVENT
DTSTART:20260507T153500
DTEND:20260507T153530
LOCATION:Gewerbepark 13, 8562 Mooskirchen
DTSTAMP:20260424T045034
SUMMARY:MyAuktion: Ablauf Artikel Nr. 441813 Tong Yang Industry Co Ltd Seitenteil Mercedes-Benz E-Class 1997- 2002 4Door Saloon
URL;VALUE=URI:https://www.myauktion.com/versteigerung7670-position2446624-tong-yang-industry-co-ltd-seitenteil-mercedes-benz-e-class-1997-2002-4door-saloon.php
DESCRIPTION:Part Number: BZ10026ARV. 
UID:myauktion-7670-2446624
BEGIN:VALARM
ACTION:DISPLAY
DESCRIPTION:Part Number: BZ10026ARV. 
TRIGGER:-PT10M
END:VALARM
END:VEVENT
END:VCALENDAR