BEGIN:VCALENDAR
VERSION:2.0
PRODID:-//Goldgrube//myauktion.com//AT
CALSCALE:GREGORIAN
BEGIN:VEVENT
DTSTART:20260507T153700
DTEND:20260507T153730
LOCATION:Gewerbepark 13, 8562 Mooskirchen
DTSTAMP:20260423T192639
SUMMARY:MyAuktion: Ablauf Artikel Nr. 441824 VidaXL 378173.A
URL;VALUE=URI:https://www.myauktion.com/versteigerung7670-position2446625-vidaxl-378173a.php
DESCRIPTION:Keine weiteren Daten ersichtlich
UID:myauktion-7670-2446625
BEGIN:VALARM
ACTION:DISPLAY
DESCRIPTION:Keine weiteren Daten ersichtlich
TRIGGER:-PT10M
END:VALARM
END:VEVENT
END:VCALENDAR