BEGIN:VCALENDAR
VERSION:2.0
PRODID:-//Goldgrube//myauktion.com//AT
CALSCALE:GREGORIAN
BEGIN:VEVENT
DTSTART:20260507T154100
DTEND:20260507T154130
LOCATION:Gewerbepark 13, 8562 Mooskirchen
DTSTAMP:20260423T205509
SUMMARY:MyAuktion: Ablauf Artikel Nr. 441833 Schrank Zubehör mit Spiegel ca. 180x30 cm
URL;VALUE=URI:https://www.myauktion.com/versteigerung7670-position2446628-schrank-zubehoer-mit-spiegel-ca-180x30-cm.php
DESCRIPTION:
UID:myauktion-7670-2446628
BEGIN:VALARM
ACTION:DISPLAY
DESCRIPTION:
TRIGGER:-PT10M
END:VALARM
END:VEVENT
END:VCALENDAR