BEGIN:VCALENDAR
VERSION:2.0
PRODID:-//Goldgrube//myauktion.com//AT
CALSCALE:GREGORIAN
BEGIN:VEVENT
DTSTART:20260507T154200
DTEND:20260507T154230
LOCATION:Gewerbepark 13, 8562 Mooskirchen
DTSTAMP:20260423T205523
SUMMARY:MyAuktion: Ablauf Artikel Nr. 441834 Hansa/Flex Hydraulikschlauch KWT5PZ
URL;VALUE=URI:https://www.myauktion.com/versteigerung7670-position2446629-hansa-flex-hydraulikschlauch-kwt5pz.php
DESCRIPTION:
UID:myauktion-7670-2446629
BEGIN:VALARM
ACTION:DISPLAY
DESCRIPTION:
TRIGGER:-PT10M
END:VALARM
END:VEVENT
END:VCALENDAR