BEGIN:VCALENDAR
VERSION:2.0
PRODID:-//Goldgrube//myauktion.com//AT
CALSCALE:GREGORIAN
BEGIN:VEVENT
DTSTART:20260507T142900
DTEND:20260507T142930
LOCATION:Gewerbepark 13, 8562 Mooskirchen
DTSTAMP:20260423T205511
SUMMARY:MyAuktion: Ablauf Artikel Nr. 441469 Obsession Basics Opal
URL;VALUE=URI:https://www.myauktion.com/versteigerung7670-position2446632-obsession-basics-opal.php
DESCRIPTION:Größe: 160x230 cm. Farbe: taupe. 
UID:myauktion-7670-2446632
BEGIN:VALARM
ACTION:DISPLAY
DESCRIPTION:Größe: 160x230 cm. Farbe: taupe. 
TRIGGER:-PT10M
END:VALARM
END:VEVENT
END:VCALENDAR