BEGIN:VCALENDAR
VERSION:2.0
PRODID:-//Goldgrube//myauktion.com//AT
CALSCALE:GREGORIAN
BEGIN:VEVENT
DTSTART:20260507T143000
DTEND:20260507T143030
LOCATION:Gewerbepark 13, 8562 Mooskirchen
DTSTAMP:20260423T205513
SUMMARY:MyAuktion: Ablauf Artikel Nr. 441472 ADL soft air simplex wds Art.-Nr. 110 470-wds
URL;VALUE=URI:https://www.myauktion.com/versteigerung7670-position2446633-adl-soft-air-simplex-wds-art-nr-110-470-wds.php
DESCRIPTION:Große Zelle, alternierendes Drucksystem, geeignet bis 130 kg. Druckzyklus gemäß einem Zweikammersystem. Druckregelung für individuellen Komfort. Optional statischer und alternierender Druck
UID:myauktion-7670-2446633
BEGIN:VALARM
ACTION:DISPLAY
DESCRIPTION:Große Zelle, alternierendes Drucksystem, geeignet bis 130 kg. Druckzyklus gemäß einem Zweikammersystem. Druckregelung für individuellen Komfort. Optional statischer und alternierender Druck
TRIGGER:-PT10M
END:VALARM
END:VEVENT
END:VCALENDAR