BEGIN:VCALENDAR
VERSION:2.0
PRODID:-//Goldgrube//myauktion.com//AT
CALSCALE:GREGORIAN
BEGIN:VEVENT
DTSTART:20260507T155000
DTEND:20260507T155030
LOCATION:Gewerbepark 13, 8562 Mooskirchen
DTSTAMP:20260423T205513
SUMMARY:MyAuktion: Ablauf Artikel Nr. 441888 Feuerwehrzufahrt Schild
URL;VALUE=URI:https://www.myauktion.com/versteigerung7670-position2446635-feuerwehrzufahrt-schild.php
DESCRIPTION:
UID:myauktion-7670-2446635
BEGIN:VALARM
ACTION:DISPLAY
DESCRIPTION:
TRIGGER:-PT10M
END:VALARM
END:VEVENT
END:VCALENDAR