BEGIN:VCALENDAR
VERSION:2.0
PRODID:-//Goldgrube//myauktion.com//AT
CALSCALE:GREGORIAN
BEGIN:VEVENT
DTSTART:20260507T155200
DTEND:20260507T155230
LOCATION:Gewerbepark 13, 8562 Mooskirchen
DTSTAMP:20260423T205510
SUMMARY:MyAuktion: Ablauf Artikel Nr. 441892 Canon Cartridge 056 H
URL;VALUE=URI:https://www.myauktion.com/versteigerung7670-position2446637-canon-cartridge-056-h.php
DESCRIPTION:
UID:myauktion-7670-2446637
BEGIN:VALARM
ACTION:DISPLAY
DESCRIPTION:
TRIGGER:-PT10M
END:VALARM
END:VEVENT
END:VCALENDAR