BEGIN:VCALENDAR
VERSION:2.0
PRODID:-//Goldgrube//myauktion.com//AT
CALSCALE:GREGORIAN
BEGIN:VEVENT
DTSTART:20260507T155400
DTEND:20260507T155430
LOCATION:Gewerbepark 13, 8562 Mooskirchen
DTSTAMP:20260423T205508
SUMMARY:MyAuktion: Ablauf Artikel Nr. 441895 Kinderkraft Prime front wheel KXPRIME0FRWHEEL
URL;VALUE=URI:https://www.myauktion.com/versteigerung7670-position2446639-kinderkraft-prime-front-wheel-kxprime0frwheel.php
DESCRIPTION:
UID:myauktion-7670-2446639
BEGIN:VALARM
ACTION:DISPLAY
DESCRIPTION:
TRIGGER:-PT10M
END:VALARM
END:VEVENT
END:VCALENDAR