BEGIN:VCALENDAR
VERSION:2.0
PRODID:-//Goldgrube//myauktion.com//AT
CALSCALE:GREGORIAN
BEGIN:VEVENT
DTSTART:20260507T155700
DTEND:20260507T155730
LOCATION:Gewerbepark 13, 8562 Mooskirchen
DTSTAMP:20260423T205505
SUMMARY:MyAuktion: Ablauf Artikel Nr. 441903 Brother TN421BK Toner Schwarz
URL;VALUE=URI:https://www.myauktion.com/versteigerung7670-position2446642-brother-tn421bk-toner-schwarz.php
DESCRIPTION:
UID:myauktion-7670-2446642
BEGIN:VALARM
ACTION:DISPLAY
DESCRIPTION:
TRIGGER:-PT10M
END:VALARM
END:VEVENT
END:VCALENDAR